BEGIN:VCALENDAR
VERSION:2.0
PRODID:-//Idaho Knife Association - ECPv6.15.17//NONSGML v1.0//EN
CALSCALE:GREGORIAN
METHOD:PUBLISH
X-ORIGINAL-URL:https://ika.idahoknife.com
X-WR-CALDESC:Events for Idaho Knife Association
REFRESH-INTERVAL;VALUE=DURATION:PT1H
X-Robots-Tag:noindex
X-PUBLISHED-TTL:PT1H
BEGIN:VTIMEZONE
TZID:America/Boise
BEGIN:DAYLIGHT
TZOFFSETFROM:-0700
TZOFFSETTO:-0600
TZNAME:MDT
DTSTART:20200308T090000
END:DAYLIGHT
BEGIN:STANDARD
TZOFFSETFROM:-0600
TZOFFSETTO:-0700
TZNAME:MST
DTSTART:20201101T080000
END:STANDARD
BEGIN:DAYLIGHT
TZOFFSETFROM:-0700
TZOFFSETTO:-0600
TZNAME:MDT
DTSTART:20210314T090000
END:DAYLIGHT
BEGIN:STANDARD
TZOFFSETFROM:-0600
TZOFFSETTO:-0700
TZNAME:MST
DTSTART:20211107T080000
END:STANDARD
BEGIN:DAYLIGHT
TZOFFSETFROM:-0700
TZOFFSETTO:-0600
TZNAME:MDT
DTSTART:20220313T090000
END:DAYLIGHT
BEGIN:STANDARD
TZOFFSETFROM:-0600
TZOFFSETTO:-0700
TZNAME:MST
DTSTART:20221106T080000
END:STANDARD
END:VTIMEZONE
BEGIN:VEVENT
DTSTART;TZID=America/Boise:20210222T190000
DTEND;TZID=America/Boise:20210222T200000
DTSTAMP:20260422T133359
CREATED:20210210T062624Z
LAST-MODIFIED:20210210T062624Z
UID:716-1614020400-1614024000@ika.idahoknife.com
SUMMARY:IKA 2021 Knife Show Touchbase
DESCRIPTION:Please check email for Google Meet Link.
URL:https://ika.idahoknife.com/event/ika-2021-knife-show-touchbase/
LOCATION:Google Meet
END:VEVENT
END:VCALENDAR